BEGIN:VCALENDAR
VERSION:2.0
PRODID:-//NEI Academy - ECPv6.15.20//NONSGML v1.0//EN
CALSCALE:GREGORIAN
METHOD:PUBLISH
X-ORIGINAL-URL:https://neiacademy.nl
X-WR-CALDESC:Evenementen voor NEI Academy
REFRESH-INTERVAL;VALUE=DURATION:PT1H
X-Robots-Tag:noindex
X-PUBLISHED-TTL:PT1H
BEGIN:VTIMEZONE
TZID:Europe/Amsterdam
BEGIN:DAYLIGHT
TZOFFSETFROM:+0100
TZOFFSETTO:+0200
TZNAME:CEST
DTSTART:20240331T010000
END:DAYLIGHT
BEGIN:STANDARD
TZOFFSETFROM:+0200
TZOFFSETTO:+0100
TZNAME:CET
DTSTART:20241027T010000
END:STANDARD
BEGIN:DAYLIGHT
TZOFFSETFROM:+0100
TZOFFSETTO:+0200
TZNAME:CEST
DTSTART:20250330T010000
END:DAYLIGHT
BEGIN:STANDARD
TZOFFSETFROM:+0200
TZOFFSETTO:+0100
TZNAME:CET
DTSTART:20251026T010000
END:STANDARD
BEGIN:DAYLIGHT
TZOFFSETFROM:+0100
TZOFFSETTO:+0200
TZNAME:CEST
DTSTART:20260329T010000
END:DAYLIGHT
BEGIN:STANDARD
TZOFFSETFROM:+0200
TZOFFSETTO:+0100
TZNAME:CET
DTSTART:20261025T010000
END:STANDARD
END:VTIMEZONE
BEGIN:VEVENT
DTSTART;TZID=Europe/Amsterdam:20250307T100000
DTEND;TZID=Europe/Amsterdam:20250309T163000
DTSTAMP:20260424T090025
CREATED:20190505T133524Z
LAST-MODIFIED:20240630T162410Z
UID:1349-1741341600-1741537800@neiacademy.nl
SUMMARY:NEI VERVOLGMODULE
DESCRIPTION:
URL:https://neiacademy.nl/event/vervolg-mrt-2025/
LOCATION:NEI Academy\, Bakenbergseweg 72\, Arnhem\, 6814 MK\, Nederland
CATEGORIES:NEI VERVOLGMODULE
ATTACH;FMTTYPE=image/jpeg:https://neiacademy.nl/wp-content/uploads/DB20BE25-632B-4C04-91B3-BA8AD7E38747_1_105_c.jpeg
END:VEVENT
BEGIN:VEVENT
DTSTART;TZID=Europe/Amsterdam:20250330T100000
DTEND;TZID=Europe/Amsterdam:20250330T163000
DTSTAMP:20260424T090025
CREATED:20190222T135736Z
LAST-MODIFIED:20240630T135441Z
UID:1174-1743328800-1743352200@neiacademy.nl
SUMMARY:COACHMODULE
DESCRIPTION:
URL:https://neiacademy.nl/event/coachmodule/
LOCATION:NEI Academy\, Bakenbergseweg 72\, Arnhem\, 6814 MK\, Nederland
CATEGORIES:COACHMODULE
ATTACH;FMTTYPE=image/jpeg:https://neiacademy.nl/wp-content/uploads/Edine-lachend-bewerkt.jpg
END:VEVENT
END:VCALENDAR