BEGIN:VCALENDAR
VERSION:2.0
PRODID:-//NEI Academy - ECPv6.15.20//NONSGML v1.0//EN
CALSCALE:GREGORIAN
METHOD:PUBLISH
X-WR-CALNAME:NEI Academy
X-ORIGINAL-URL:https://neiacademy.nl
X-WR-CALDESC:Evenementen voor NEI Academy
REFRESH-INTERVAL;VALUE=DURATION:PT1H
X-Robots-Tag:noindex
X-PUBLISHED-TTL:PT1H
BEGIN:VTIMEZONE
TZID:Europe/Amsterdam
BEGIN:DAYLIGHT
TZOFFSETFROM:+0100
TZOFFSETTO:+0200
TZNAME:CEST
DTSTART:20230326T010000
END:DAYLIGHT
BEGIN:STANDARD
TZOFFSETFROM:+0200
TZOFFSETTO:+0100
TZNAME:CET
DTSTART:20231029T010000
END:STANDARD
BEGIN:DAYLIGHT
TZOFFSETFROM:+0100
TZOFFSETTO:+0200
TZNAME:CEST
DTSTART:20240331T010000
END:DAYLIGHT
BEGIN:STANDARD
TZOFFSETFROM:+0200
TZOFFSETTO:+0100
TZNAME:CET
DTSTART:20241027T010000
END:STANDARD
BEGIN:DAYLIGHT
TZOFFSETFROM:+0100
TZOFFSETTO:+0200
TZNAME:CEST
DTSTART:20250330T010000
END:DAYLIGHT
BEGIN:STANDARD
TZOFFSETFROM:+0200
TZOFFSETTO:+0100
TZNAME:CET
DTSTART:20251026T010000
END:STANDARD
END:VTIMEZONE
BEGIN:VEVENT
DTSTART;TZID=Europe/Amsterdam:20241115T100000
DTEND;TZID=Europe/Amsterdam:20241117T163000
DTSTAMP:20260422T120908
CREATED:20190222T142021Z
LAST-MODIFIED:20240630T135531Z
UID:1180-1731664800-1731861000@neiacademy.nl
SUMMARY:NEI VERVOLGMODULE
DESCRIPTION:
URL:https://neiacademy.nl/event/nov-2024/
LOCATION:NEI Academy\, Bakenbergseweg 72\, Arnhem\, 6814 MK\, Nederland
CATEGORIES:NEI VERVOLGMODULE
ATTACH;FMTTYPE=image/jpeg:https://neiacademy.nl/wp-content/uploads/DB20BE25-632B-4C04-91B3-BA8AD7E38747_1_105_c.jpeg
END:VEVENT
BEGIN:VEVENT
DTSTART;TZID=Europe/Amsterdam:20241025T100000
DTEND;TZID=Europe/Amsterdam:20241025T160000
DTSTAMP:20260422T120908
CREATED:20190401T132850Z
LAST-MODIFIED:20240630T164726Z
UID:1288-1729850400-1729872000@neiacademy.nl
SUMMARY:OEFEN- EN THEMADAG
DESCRIPTION:
URL:https://neiacademy.nl/event/themadag-okt-2024/
LOCATION:NEI Academy\, Bakenbergseweg 72\, Arnhem\, 6814 MK\, Nederland
CATEGORIES:OEFEN- EN THEMADAG
ATTACH;FMTTYPE=image/jpeg:https://neiacademy.nl/wp-content/uploads/D06B1DEE-ACEB-40A0-B4BE-781806EC8C24_1_105_c.jpeg
END:VEVENT
BEGIN:VEVENT
DTSTART;TZID=Europe/Amsterdam:20241004T100000
DTEND;TZID=Europe/Amsterdam:20241006T163000
DTSTAMP:20260422T120908
CREATED:20240630T125734Z
LAST-MODIFIED:20240630T165934Z
UID:6872-1728036000-1728232200@neiacademy.nl
SUMMARY:NEI BASISMODULE
DESCRIPTION:
URL:https://neiacademy.nl/event/test-2/
LOCATION:NEI Academy\, Bakenbergseweg 72\, Arnhem\, 6814 MK\, Nederland
CATEGORIES:NEI BASISMODULE
ATTACH;FMTTYPE=image/png:https://neiacademy.nl/wp-content/uploads/Scherm­afbeelding-2024-06-30-om-15.17.32.png
END:VEVENT
END:VCALENDAR